BEGIN:VCALENDAR
VERSION:2.0
PRODID:-//宮崎市天ケ城歴史民俗資料館 - ECPv5.8.1//NONSGML v1.0//EN
CALSCALE:GREGORIAN
METHOD:PUBLISH
X-WR-CALNAME:宮崎市天ケ城歴史民俗資料館
X-ORIGINAL-URL:https://amagajyorekishi.miyabunkyo.com
X-WR-CALDESC:宮崎市天ケ城歴史民俗資料館 のイベント
BEGIN:VTIMEZONE
TZID:Asia/Tokyo
BEGIN:STANDARD
TZOFFSETFROM:+0900
TZOFFSETTO:+0900
TZNAME:JST
DTSTART:20200101T000000
END:STANDARD
END:VTIMEZONE
BEGIN:VEVENT
DTSTART;TZID=Asia/Tokyo:20200517T133000
DTEND;TZID=Asia/Tokyo:20200517T153000
DTSTAMP:20260425T075031
CREATED:20200417T083104Z
LAST-MODIFIED:20200422T044043Z
UID:990-1589722200-1589729400@amagajyorekishi.miyabunkyo.com
SUMMARY:【中止】体験学習① 昔懐かしいお菓子作り
DESCRIPTION:5月17日(日)に予定しておりました体験学習①昔懐かしいお菓子作りは、新型コロナウィルス感染防止のため中止となりました。\nご不便をおかけいたしますが、皆様のご理解・ご協力のほど、何卒宜しくお願いいたします。 \n 
URL:https://amagajyorekishi.miyabunkyo.com/tribe_events/%e3%80%90%e4%b8%ad%e6%ad%a2%e3%80%91%e4%bd%93%e9%a8%93%e5%ad%a6%e7%bf%92%e2%91%a0%e6%98%94%e6%87%90%e3%81%8b%e3%81%97%e3%81%84%e3%81%8a%e8%8f%93%e5%ad%90%e4%bd%9c%e3%82%8a/
END:VEVENT
END:VCALENDAR