BEGIN:VCALENDAR
VERSION:2.0
PRODID:-//宮崎市天ケ城歴史民俗資料館 - ECPv5.8.1//NONSGML v1.0//EN
CALSCALE:GREGORIAN
METHOD:PUBLISH
X-WR-CALNAME:宮崎市天ケ城歴史民俗資料館
X-ORIGINAL-URL:https://amagajyorekishi.miyabunkyo.com
X-WR-CALDESC:宮崎市天ケ城歴史民俗資料館 のイベント
BEGIN:VTIMEZONE
TZID:Asia/Tokyo
BEGIN:STANDARD
TZOFFSETFROM:+0900
TZOFFSETTO:+0900
TZNAME:JST
DTSTART:20200101T000000
END:STANDARD
END:VTIMEZONE
BEGIN:VEVENT
DTSTART;TZID=Asia/Tokyo:20200705T100000
DTEND;TZID=Asia/Tokyo:20200705T113000
DTSTAMP:20260426T000738
CREATED:20200530T041215Z
LAST-MODIFIED:20200616T055906Z
UID:1020-1593943200-1593948600@amagajyorekishi.miyabunkyo.com
SUMMARY:かるたで遊ぼうin天ケ城【第1回】
DESCRIPTION:高岡地域の歴史や民俗が学べる『高岡歴史かるた』を使ってかるた遊びをします。幼児以上から大人の方までご参加頂けます♪連続講座ではございませんので、お気軽にご参加ください♪ \n●日時：第１回：令和２年７月５日（日）10:00～11:30　　　　第２回：令和２年９月６日（日）10:00～11:30　　　　第３回：令和２年１０月１１日（日）10:00～11:30　　　　第４回：令和２年１１月１日（日）10:00～11:30　　　　第５回：令和２年１２月６日（日）10:00～11:30 \n●開催場所：宮崎市天ケ城歴史民俗資料館 ●講師：山口 孝治先生（高岡歴史かるた会・宮崎市立宮崎西小学校教諭） ●対象・定員：子ども（幼児以上）から大人まで15名程度 ●参加費：無料 \n<開催にあたって>・会場は換気が十分にできる空間で、密にならないように参加者同士との空間を空けて実施いたします。(当日晴天の場合は、外で実施いたします。)・かるたで実際に活動するのは、50分程度です。2グループ(各7名程度)ほどに分かれて施設見学とかるた遊びを交互に行います。・参加者は必ずマスクを着用していただき、かるた使用前後の消毒を徹底いたします。 \n※参加当日、最近2週間以内に発熱等体調変容の有無についてご確認をさせて頂きます。　発熱などがある場合は参加をご遠慮頂く場合がございますので、予めご了承ください。 \n＜お申込みについて＞\n\n\n\n\n●この講座は事前申し込み制となっております。 \n①申込締切日：6月19日（金）17:00まで　6月25日(木)17:00まで延長 \n※2回目以降からは各回の開催日の一週間前まで受け付けます(先着事前申込制)。 \n●参加ご希望の方は当ホームページの申し込みフォームか、直接お電話・FAXにてお申し込みください。 \n※必ず住所・電話番号・お子様の場合は学年（年齢）をお知らせください。 　メールフォームからのお申し込みの場合は受信可能なメールアドレスをご記入ください。（当館より受付完了のメールを返信致します）　連絡がつかない場合、キャンセルとなる場合がございますので、ご了承ください。
URL:https://amagajyorekishi.miyabunkyo.com/tribe_events/%e3%81%8b%e3%82%8b%e3%81%9f%e3%81%a7%e9%81%8a%e3%81%bc%e3%81%86in%e5%a4%a9%e3%82%b1%e5%9f%8e%e3%80%90%e7%ac%ac1%e5%9b%9e%e3%80%91/
END:VEVENT
END:VCALENDAR