BEGIN:VCALENDAR
VERSION:2.0
PRODID:-//宮崎市天ケ城歴史民俗資料館 - ECPv5.8.1//NONSGML v1.0//EN
CALSCALE:GREGORIAN
METHOD:PUBLISH
X-WR-CALNAME:宮崎市天ケ城歴史民俗資料館
X-ORIGINAL-URL:https://amagajyorekishi.miyabunkyo.com
X-WR-CALDESC:宮崎市天ケ城歴史民俗資料館 のイベント
BEGIN:VTIMEZONE
TZID:Asia/Tokyo
BEGIN:STANDARD
TZOFFSETFROM:+0900
TZOFFSETTO:+0900
TZNAME:JST
DTSTART:20230101T000000
END:STANDARD
END:VTIMEZONE
BEGIN:VEVENT
DTSTART;VALUE=DATE:20230315
DTEND;VALUE=DATE:20230316
DTSTAMP:20260420T085047
CREATED:20230315T020924Z
LAST-MODIFIED:20230315T020924Z
UID:1915-1678838400-1678924799@amagajyorekishi.miyabunkyo.com
SUMMARY:企画展『何が起きた!?地域のヒストリー展』開催(3/15～4/16)
DESCRIPTION:本日より企画展『何が起きた!?地域のヒストリー展』が始まりました！ \n詳しくは、企画展ページ(クリックすると開きます)をご覧ください。
URL:https://amagajyorekishi.miyabunkyo.com/tribe_events/%e4%bc%81%e7%94%bb%e5%b1%95%e3%80%8e%e4%bd%95%e3%81%8c%e8%b5%b7%e3%81%8d%e3%81%9f%e5%9c%b0%e5%9f%9f%e3%81%ae%e3%83%92%e3%82%b9%e3%83%88%e3%83%aa%e3%83%bc%e5%b1%95%e3%80%8f%e9%96%8b%e5%82%ac3-15/
END:VEVENT
END:VCALENDAR