BEGIN:VCALENDAR
VERSION:2.0
PRODID:-//宮崎市天ケ城歴史民俗資料館 - ECPv5.8.1//NONSGML v1.0//EN
CALSCALE:GREGORIAN
METHOD:PUBLISH
X-WR-CALNAME:宮崎市天ケ城歴史民俗資料館
X-ORIGINAL-URL:https://amagajyorekishi.miyabunkyo.com
X-WR-CALDESC:宮崎市天ケ城歴史民俗資料館 のイベント
BEGIN:VTIMEZONE
TZID:Asia/Tokyo
BEGIN:STANDARD
TZOFFSETFROM:+0900
TZOFFSETTO:+0900
TZNAME:JST
DTSTART:20190101T000000
END:STANDARD
END:VTIMEZONE
BEGIN:VEVENT
DTSTART;TZID=Asia/Tokyo:20191215T133000
DTEND;TZID=Asia/Tokyo:20191215T153000
DTSTAMP:20260425T002417
CREATED:20191012T022134Z
LAST-MODIFIED:20191125T234927Z
UID:902-1576416600-1576423800@amagajyorekishi.miyabunkyo.com
SUMMARY:体験学習⑥ミニ門松づくり
DESCRIPTION:※エントリー受付を終了いたしました。\n＊＊＊ \nお正月に向けて、かわいいミニ門松を作ります。 \n \n  \n  \n  \n  \n  \n  \n●日　時：令和元年１２月１５日（日）13:30～15:30●対　象：子どもと保護者（※作成は1家族1セット）●定　員：４０名●参加費：５００円●準備物：門松を持って帰るための袋（２つ） \n＜お申込みについて＞\n※必ず『各種講座へのお申し込みに関する注意（重要）』をご覧頂き、ご了承頂いた上でのお申込みをお願いします。 \n\n\n\n\n●この講座は抽選制となっております。 \n　　①申込期間：１１月１５日（金）9:00～１１月２４日（日）17:00 \n  \n　　②当落について：抽選の上、１１月３０日以降にご連絡いたします。 \n  \n●参加ご希望の方は当ホームページの申し込みフォームか、直接お電話・FAXにてお申し込みください。 \n※必ず住所・電話番号をお知らせください。　　メールフォームからのお申し込みの場合は受信可能なメールアドレスをご記入ください。　　（当館よりエントリー受付完了のメールを返信致します）　　連絡がつかない場合、キャンセルとなる場合がございますので、ご了承ください。 \n●団体でのお申し込みはお断りしております。 \n※左のメールフォーム記入例をご覧ください。（入力漏れのないようにお願いします。） \n画像をクリックすると拡大します。 \n\n\n\n\n 
URL:https://amagajyorekishi.miyabunkyo.com/tribe_events/%e4%bd%93%e9%a8%93%e5%ad%a6%e7%bf%92%e2%91%a5%e3%83%9f%e3%83%8b%e9%96%80%e6%9d%be%e3%81%a5%e3%81%8f%e3%82%8a/
END:VEVENT
END:VCALENDAR