BEGIN:VCALENDAR
VERSION:2.0
PRODID:-//宮崎市天ケ城歴史民俗資料館 - ECPv5.8.1//NONSGML v1.0//EN
CALSCALE:GREGORIAN
METHOD:PUBLISH
X-WR-CALNAME:宮崎市天ケ城歴史民俗資料館
X-ORIGINAL-URL:https://amagajyorekishi.miyabunkyo.com
X-WR-CALDESC:宮崎市天ケ城歴史民俗資料館 のイベント
BEGIN:VTIMEZONE
TZID:Asia/Tokyo
BEGIN:STANDARD
TZOFFSETFROM:+0900
TZOFFSETTO:+0900
TZNAME:JST
DTSTART:20200101T000000
END:STANDARD
END:VTIMEZONE
BEGIN:VEVENT
DTSTART;TZID=Asia/Tokyo:20200111T090000
DTEND;TZID=Asia/Tokyo:20200113T163000
DTSTAMP:20260424T175908
CREATED:20191012T031415Z
LAST-MODIFIED:20191012T031415Z
UID:908-1578733200-1578933000@amagajyorekishi.miyabunkyo.com
SUMMARY:開館日
DESCRIPTION:9：00～16：30が開館時間です。 \n最終入館は16：00となっております。 \n \n  \n  \n  \n  \n 
URL:https://amagajyorekishi.miyabunkyo.com/tribe_events/%e9%96%8b%e9%a4%a8%e6%97%a5-15/
END:VEVENT
END:VCALENDAR