BEGIN:VCALENDAR
VERSION:2.0
PRODID:-//宮崎市天ケ城歴史民俗資料館 - ECPv5.8.1//NONSGML v1.0//EN
CALSCALE:GREGORIAN
METHOD:PUBLISH
X-WR-CALNAME:宮崎市天ケ城歴史民俗資料館
X-ORIGINAL-URL:https://amagajyorekishi.miyabunkyo.com
X-WR-CALDESC:宮崎市天ケ城歴史民俗資料館 のイベント
BEGIN:VTIMEZONE
TZID:Asia/Tokyo
BEGIN:STANDARD
TZOFFSETFROM:+0900
TZOFFSETTO:+0900
TZNAME:JST
DTSTART:20200101T000000
END:STANDARD
END:VTIMEZONE
BEGIN:VEVENT
DTSTART;TZID=Asia/Tokyo:20200429T090000
DTEND;TZID=Asia/Tokyo:20200429T163000
DTSTAMP:20260425T023715
CREATED:20200406T102222Z
LAST-MODIFIED:20200422T041349Z
UID:984-1588150800-1588177800@amagajyorekishi.miyabunkyo.com
SUMMARY:臨時休館
DESCRIPTION:新型コロナウイルスの感染拡大防止のため、引き続き5月6日(水)まで臨時休館とします。 御理解のほどよろしくお願いします。 新たな情報につきましては、当ホームページにて随時お知らせいたします。
URL:https://amagajyorekishi.miyabunkyo.com/tribe_events/%e9%96%8b%e9%a4%a8%e6%97%a5-24/
END:VEVENT
END:VCALENDAR