BEGIN:VCALENDAR
VERSION:2.0
PRODID:-//宮崎市天ケ城歴史民俗資料館 - ECPv5.8.1//NONSGML v1.0//EN
CALSCALE:GREGORIAN
METHOD:PUBLISH
X-WR-CALNAME:宮崎市天ケ城歴史民俗資料館
X-ORIGINAL-URL:https://amagajyorekishi.miyabunkyo.com
X-WR-CALDESC:宮崎市天ケ城歴史民俗資料館 のイベント
BEGIN:VTIMEZONE
TZID:Asia/Tokyo
BEGIN:STANDARD
TZOFFSETFROM:+0900
TZOFFSETTO:+0900
TZNAME:JST
DTSTART:20200101T000000
END:STANDARD
END:VTIMEZONE
BEGIN:VEVENT
DTSTART;TZID=Asia/Tokyo:20200711T090000
DTEND;TZID=Asia/Tokyo:20200712T163000
DTSTAMP:20260426T014824
CREATED:20200530T045348Z
LAST-MODIFIED:20200530T082103Z
UID:1036-1594458000-1594571400@amagajyorekishi.miyabunkyo.com
SUMMARY:開館日
DESCRIPTION:本日は開館日です。 \nなお、引き続き新型コロナウイルス感染拡大防止の対策のため、営業方法を当面の間、以下のとおり変更いたします。ご理解・ご協力をお願いいたします。\n \n（1）来館の際の体調等について\n　息苦しさ、強いだるさ、高熱などの強い症状、もしくは発熱や咳などの比較的軽い風邪症状がある方は入館をご遠慮ください。 \n（2）入館時の個人情報の記入について\n　万が一、入館後にウイルス感染が発覚した際の感染経路の把握のため、受付において、記入用紙に氏名・住所・電話番号の記入をお願いします。ご理解・ご協力をお願いいたします。 \n※目的以外に使用することはありません。\n※万が一、来館後体調が極端に悪化した、新型コロナウイルス感染が発覚した場合には、当館までご連絡くださいますよう、お願いいたします。\n \n（3）展示室等の利用制限について \n・1階展示室のファンタビューは休止させていただきます。 \n・2階展示室及び3階展示室は閉鎖させていただきます。 \n（4）その他\n　①スタッフがマスクを着用して対応する場合がございます。 \n　②消毒のため、開館時間中にスタッフが展示物等の拭き上げ作業を行うことがあります。ご協力をお願いいたします。 \n　③イベントの中止につきましては、ホームページより最新情報をご確認ください。 \n　④必要箇所に応じて、ソーシャルディスタンスを確保し、対応をさせていただく場合がございます。 \n　⑤今後、館の運営につきましては、感染状況をみて判断し、お知らせいたします。 \n　開館を楽しみにしていただいていた皆様には、何かとご不便をおかけし、申し訳ありません。何卒、ご理解、ご協力のほど、よろしくお願いいたします。 スタッフ一同、皆様のご来館を楽しみにお待ちいたしております。
URL:https://amagajyorekishi.miyabunkyo.com/tribe_events/%e9%96%8b%e9%a4%a8%e6%97%a5-33/
END:VEVENT
END:VCALENDAR