BEGIN:VCALENDAR
VERSION:2.0
PRODID:-//宮崎市天ケ城歴史民俗資料館 - ECPv5.8.1//NONSGML v1.0//EN
CALSCALE:GREGORIAN
METHOD:PUBLISH
X-WR-CALNAME:宮崎市天ケ城歴史民俗資料館
X-ORIGINAL-URL:https://amagajyorekishi.miyabunkyo.com
X-WR-CALDESC:宮崎市天ケ城歴史民俗資料館 のイベント
BEGIN:VTIMEZONE
TZID:Asia/Tokyo
BEGIN:STANDARD
TZOFFSETFROM:+0900
TZOFFSETTO:+0900
TZNAME:JST
DTSTART:20190101T000000
END:STANDARD
END:VTIMEZONE
BEGIN:VEVENT
DTSTART;TZID=Asia/Tokyo:20191013T100000
DTEND;TZID=Asia/Tokyo:20191013T233000
DTSTAMP:20260426T014835
CREATED:20191008T054321Z
LAST-MODIFIED:20191008T073106Z
UID:884-1570960800-1571009400@amagajyorekishi.miyabunkyo.com
SUMMARY:高岡歴史かるたで遊ぼうin天ケ城【第６回】
DESCRIPTION:昨年完成した『高岡歴史かるた』を使ったかるた遊びを通して、高岡地域の歴史や民俗について楽しく学びませんか？幼児以上から大人の方までご参加頂けますよ♪ \n●日時：第１回：令和元年６月２３日（日）【午前の部】10:00～11:30　【午後の部】13:00～14:30　　　　第２回：令和元年７月７日（日）10:00～11:30　　　　第３回：令和元年７月２１日（日）10:00～11:30　　　　第４回：令和元年８月４日（日）10:00～11:30　　　　第５回：令和元年９月１日（日）10:00～11:30　　　　第６回：令和元年１０月１３日（日）10:00～11:30　　　　第７回：令和元年１１月１０日（日）10:00～11:30　　　　第８回：令和元年１２月１日（日）10:00～11:30 \n●開催場所：宮崎市天ケ城歴史民俗資料館●講師：山口 孝治先生（高岡歴史かるた会・宮崎市立高岡小学校教諭）●対象・定員：子ども（幼児以上）から大人まで３０名程度●参加費：無料 \n＜お申込みについて＞\n\n\n\n\n●この講座は事前申し込み制となっております。 \n●参加ご希望の方は当ホームページの申し込みフォームか、お電話（みやざき歴史文化館39-6911）・FAXにてお申し込みください。 \n※必ず住所・電話番号・お子様の場合は学年（年齢）をお知らせください。　メールフォームからのお申し込みの場合は受信可能なメールアドレスをご記入ください。（当館より受付完了のメールを返信致します）　連絡がつかない場合、キャンセルとなる場合がございますので、ご了承ください。
URL:https://amagajyorekishi.miyabunkyo.com/tribe_events/%e9%ab%98%e5%b2%a1%e6%ad%b4%e5%8f%b2%e3%81%8b%e3%82%8b%e3%81%9f%e3%81%a7%e9%81%8a%e3%81%bc%e3%81%86in%e5%a4%a9%e3%82%b1%e5%9f%8e%e3%80%90%e7%ac%ac%ef%bc%96%e5%9b%9e%e3%80%91/
END:VEVENT
END:VCALENDAR